BEGIN:VCALENDAR
VERSION:2.0
PRODID:icalendar-ruby
CALSCALE:GREGORIAN
METHOD:PUBLISH
BEGIN:VEVENT
DTSTAMP:20260420T053147Z
UID:11-1570620@covenantmovement.org
DTSTART:20260927T150000Z
DTEND:20260927T163000Z
CLASS:PUBLIC
CREATED:20260419T222641
DESCRIPTION:Join Us Each &amp\; Every Sunday for Sunday Worship. There is n
 o better place to be than in the presence of God. Receive your breakthroug
 h\, healing\, rejuvenation\, and more. Praise\, Worship\, and The Word of 
 God can transform your life. It's a type of worship that your whole family
  can enjoy\, so feel free to bring your children to participate in our you
 th ministry department.
LAST-MODIFIED:20260419T222641
LOCATION:3421 Old Louisville Rd.\, Augusta\, GA 30906
SUMMARY:Sunday Worship Service
URL;VALUE=URI:https://www.covenantmovement.org/events/sunday-worship-servic
 e/2026-09-27
ATTACH;FILENAME=Sunday-Worship-%281500-x-784-px%29.png;FMTTYPE=image/png:ht
 tps://dq5pwpg1q8ru0.cloudfront.net/2021/11/16/21/11/00/3a06ebbc-a2ab-41fe-
 8209-477a1d25cbc1/Sunday-Worship-%25281500-x-784-px%2529.png
END:VEVENT
END:VCALENDAR
